BEGIN:VCALENDAR
VERSION:2.0
PRODID:-//Trout Lake Abbey - ECPv6.15.20//NONSGML v1.0//EN
CALSCALE:GREGORIAN
METHOD:PUBLISH
X-ORIGINAL-URL:https://www.tlabbey.com
X-WR-CALDESC:Events for Trout Lake Abbey
REFRESH-INTERVAL;VALUE=DURATION:PT1H
X-Robots-Tag:noindex
X-PUBLISHED-TTL:PT1H
BEGIN:VTIMEZONE
TZID:America/Los_Angeles
BEGIN:DAYLIGHT
TZOFFSETFROM:-0800
TZOFFSETTO:-0700
TZNAME:PDT
DTSTART:20290311T100000
END:DAYLIGHT
BEGIN:STANDARD
TZOFFSETFROM:-0700
TZOFFSETTO:-0800
TZNAME:PST
DTSTART:20291104T090000
END:STANDARD
BEGIN:DAYLIGHT
TZOFFSETFROM:-0800
TZOFFSETTO:-0700
TZNAME:PDT
DTSTART:20300310T100000
END:DAYLIGHT
BEGIN:STANDARD
TZOFFSETFROM:-0700
TZOFFSETTO:-0800
TZNAME:PST
DTSTART:20301103T090000
END:STANDARD
BEGIN:DAYLIGHT
TZOFFSETFROM:-0800
TZOFFSETTO:-0700
TZNAME:PDT
DTSTART:20310309T100000
END:DAYLIGHT
BEGIN:STANDARD
TZOFFSETFROM:-0700
TZOFFSETTO:-0800
TZNAME:PST
DTSTART:20311102T090000
END:STANDARD
END:VTIMEZONE
BEGIN:VEVENT
DTSTART;TZID=America/Los_Angeles:20300107T173000
DTEND;TZID=America/Los_Angeles:20300107T190000
DTSTAMP:20260423T050413
CREATED:20250721T184600Z
LAST-MODIFIED:20250721T184600Z
UID:10010083-1894037400-1894042800@www.tlabbey.com
SUMMARY:Mahayana Thiền (Zen) Meditation Service
DESCRIPTION:Four different teachers will rotate talks with a Dharma talk\, meditation\, sutra\, and metta practices. \n>>>> ZOOM ID/Link <<<<\nhttps://us02web.zoom.us/j/5093952030 \nAll are welcome to be a part of our Tuesday evening service. Experience not necessary. Those of any faith or lack thereof are welcome. All that is required is an open mind to learn how to promote wellness\, happiness\, love\, and peace to oneself and all sentient beings. Typically a service will include the following: \n* Check in. (How you’re doing.)\n* Silent meditation\, seated on cushion\, chair\, or one of the pews.\n* Dharma talk from either Thay Kozen or one of five other teachers. (Buddhist teaching on how to alleviate suffering and promote happiness and peace.)\n* Metta practice. (Loving kindness.)\n* Sutra recitation and discussion. (Sutras are the written Dharma teachings.)\n* Much love and laughter.
URL:https://www.tlabbey.com/event/mahayana-thien-zen-meditation-service-393/2030-01-07/
LOCATION:WA
CATEGORIES:Mt. Adams Buddhist Temple Meditations, Events, & Services
END:VEVENT
BEGIN:VEVENT
DTSTART;TZID=America/Los_Angeles:20300108T060000
DTEND;TZID=America/Los_Angeles:20300108T073000
DTSTAMP:20260423T050413
CREATED:20250721T185005Z
LAST-MODIFIED:20250721T185005Z
UID:10010403-1894082400-1894087800@www.tlabbey.com
SUMMARY:Tuesday Morning Meditation and Discussion
DESCRIPTION:>>>> ZOOM ID/Link <<<<\nhttps://us02web.zoom.us/j/5093952030 \nAll are welcome to be a part of our morning service. Experience not necessary. Those of any faith or lack thereof are welcome. All that is required is an open mind to learn how to promote wellness\, happiness\, love\, and peace to oneself and all sentient beings. Typically\, a service will include the following: \n* 6:00 a.m.  Sutra study and discussion.\n* 6:30 a.m.  Check in. (How you’re doing.)\n* 7:00 a.m. Silent meditation\, seated on cushion\, chair\, or one of the pews.\n* Much love and laughter.
URL:https://www.tlabbey.com/event/tuesday-morning-meditation-and-discussion-45/2030-01-08/
LOCATION:Mt. Adams Buddhist Temple\, 46 Stoller Rd\, Trout Lake\, WA\, 98650\, United States
CATEGORIES:Mt. Adams Buddhist Temple Meditations, Events, & Services
END:VEVENT
BEGIN:VEVENT
DTSTART;TZID=America/Los_Angeles:20300109T060000
DTEND;TZID=America/Los_Angeles:20300109T073000
DTSTAMP:20260423T050413
CREATED:20250721T185235Z
LAST-MODIFIED:20250721T185235Z
UID:10010666-1894168800-1894174200@www.tlabbey.com
SUMMARY:Wednesday Morning Meditation and Discussion
DESCRIPTION:>>>> ZOOM ID/Link <<<<\nhttps://us02web.zoom.us/j/5093952030 \nAll are welcome to be a part of our morning service. Experience not necessary. Those of any faith or lack thereof are welcome. All that is required is an open mind to learn how to promote wellness\, happiness\, love\, and peace to oneself and all sentient beings. Typically\, a service will include the following: \n* 6:00 a.m.  Sutra study and discussion.\n* 6:30 a.m.  Check in. (How you’re doing.)\n* 7:00 a.m. Silent meditation\, seated on cushion\, chair\, or one of the pews.\n* Much love and laughter.
URL:https://www.tlabbey.com/event/wednesday-morning-meditation-and-discussion-33/2030-01-09/
LOCATION:Mt. Adams Buddhist Temple\, 46 Stoller Rd\, Trout Lake\, WA\, 98650\, United States
CATEGORIES:Mt. Adams Buddhist Temple Meditations, Events, & Services
END:VEVENT
BEGIN:VEVENT
DTSTART;TZID=America/Los_Angeles:20300110T060000
DTEND;TZID=America/Los_Angeles:20300110T073000
DTSTAMP:20260423T050413
CREATED:20250721T181442Z
LAST-MODIFIED:20250721T181442Z
UID:10009086-1894255200-1894260600@www.tlabbey.com
SUMMARY:Thursday Morning Meditation and Discussion
DESCRIPTION:>>>> ZOOM ID/Link <<<<\nhttps://us02web.zoom.us/j/5093952030 \nAll are welcome to be a part of our morning service. Experience not necessary. Those of any faith or lack thereof are welcome. All that is required is an open mind to learn how to promote wellness\, happiness\, love\, and peace to oneself and all sentient beings. Typically\, a service will include the following: \n* 6:00 a.m.  Sutra study and discussion.\n* 6:30 a.m.  Check in. (How you’re doing.)\n* 7:00 a.m. Silent meditation\, seated on cushion\, chair\, or one of the pews.\n* Much love and laughter.
URL:https://www.tlabbey.com/event/thursday-morning-meditation-and-discussion-44/2030-01-10/
LOCATION:Mt. Adams Buddhist Temple\, 46 Stoller Rd\, Trout Lake\, WA\, 98650\, United States
CATEGORIES:Mt. Adams Buddhist Temple Meditations, Events, & Services
END:VEVENT
BEGIN:VEVENT
DTSTART;TZID=America/Los_Angeles:20300111T060000
DTEND;TZID=America/Los_Angeles:20300111T073000
DTSTAMP:20260423T050413
CREATED:20250721T181914Z
LAST-MODIFIED:20250721T181914Z
UID:10009350-1894341600-1894347000@www.tlabbey.com
SUMMARY:Friday Morning Meditation and Discussion
DESCRIPTION:>>>> ZOOM ID/Link <<<<\nhttps://us02web.zoom.us/j/5093952030 \nAll are welcome to be a part of our morning service. Experience not necessary. Those of any faith or lack thereof are welcome. All that is required is an open mind to learn how to promote wellness\, happiness\, love\, and peace to oneself and all sentient beings. Typically\, a service will include the following: \n* 6:00 a.m.  Sutra study and discussion.\n* 6:30 a.m.  Check in. (How you’re doing.)\n* 7:00 a.m. Silent meditation\, seated on cushion\, chair\, or one of the pews.\n* Much love and laughter.
URL:https://www.tlabbey.com/event/friday-morning-meditation-and-discussion-44/2030-01-11/
LOCATION:Mt. Adams Buddhist Temple\, 46 Stoller Rd\, Trout Lake\, WA\, 98650\, United States
CATEGORIES:Mt. Adams Buddhist Temple Meditations, Events, & Services
END:VEVENT
END:VCALENDAR