BEGIN:VCALENDAR
VERSION:2.0
PRODID:-//Trout Lake Abbey - ECPv6.15.20//NONSGML v1.0//EN
CALSCALE:GREGORIAN
METHOD:PUBLISH
X-WR-CALNAME:Trout Lake Abbey
X-ORIGINAL-URL:https://www.tlabbey.com
X-WR-CALDESC:Events for Trout Lake Abbey
REFRESH-INTERVAL;VALUE=DURATION:PT1H
X-Robots-Tag:noindex
X-PUBLISHED-TTL:PT1H
BEGIN:VTIMEZONE
TZID:America/Los_Angeles
BEGIN:DAYLIGHT
TZOFFSETFROM:-0800
TZOFFSETTO:-0700
TZNAME:PDT
DTSTART:20220313T100000
END:DAYLIGHT
BEGIN:STANDARD
TZOFFSETFROM:-0700
TZOFFSETTO:-0800
TZNAME:PST
DTSTART:20221106T090000
END:STANDARD
BEGIN:DAYLIGHT
TZOFFSETFROM:-0800
TZOFFSETTO:-0700
TZNAME:PDT
DTSTART:20230312T100000
END:DAYLIGHT
BEGIN:STANDARD
TZOFFSETFROM:-0700
TZOFFSETTO:-0800
TZNAME:PST
DTSTART:20231105T090000
END:STANDARD
BEGIN:DAYLIGHT
TZOFFSETFROM:-0800
TZOFFSETTO:-0700
TZNAME:PDT
DTSTART:20240310T100000
END:DAYLIGHT
BEGIN:STANDARD
TZOFFSETFROM:-0700
TZOFFSETTO:-0800
TZNAME:PST
DTSTART:20241103T090000
END:STANDARD
END:VTIMEZONE
BEGIN:VEVENT
DTSTART;TZID=America/Los_Angeles:20230805T100000
DTEND;TZID=America/Los_Angeles:20230805T150000
DTSTAMP:20260420T013211
CREATED:20230713T132725Z
LAST-MODIFIED:20231004T191159Z
UID:10002671-1691229600-1691247600@www.tlabbey.com
SUMMARY:Community Work Days
DESCRIPTION:JOIN US IN KEEPING OUR TEMPLE BEAUTIFUL – The first Saturday of the month from 10 am – 3 pm. Come for 1 hour or 5. We’ll be doing weeding\, gardening\, watering\, etc.  \nAs part of this work party will be metta\, gratitude\, and mindfulness practice.  
URL:https://www.tlabbey.com/event/community-work-days/
LOCATION:Trout Lake Abbey\, 46 Stoller Rd.\, Trout Lake\, WA\, 98650\, United States
CATEGORIES:Mt. Adams Buddhist Temple Meditations, Events, & Services,Open Events and Retreats,Trout Lake Abbey,White Mountain Druid Sanctuary Events
END:VEVENT
BEGIN:VEVENT
DTSTART;VALUE=DATE:20230818
DTEND;VALUE=DATE:20230821
DTSTAMP:20260420T013211
CREATED:20230628T181004Z
LAST-MODIFIED:20231004T191001Z
UID:10002607-1692316800-1692575999@www.tlabbey.com
SUMMARY:The Experience- at Trout Lake Abbey
DESCRIPTION:Your participation in this event will offer you the opportunity to BE in the flow of life that exists for each of us.  \nOutside the framework of resisting life\, trying to make life happen\, or trying to figure life out.  \nThis is where you are open to Be\, See\, Feel and Hear the voice of your Divinity guiding your every step\, in complete and total Trust. \nReserve your place @ susanglavin.com 
URL:https://www.tlabbey.com/event/the-experience-at-trout-lake-abbey/
LOCATION:Trout Lake Abbey\, 46 Stoller Rd.\, Trout Lake\, WA\, 98650\, United States
CATEGORIES:Non TLA Facilitated,Open Events and Retreats
ATTACH;FMTTYPE=image/png:https://www.tlabbey.com/wp-content/uploads/2023/06/Screen-Shot-2023-06-26-at-10.03.57-AM.png
END:VEVENT
END:VCALENDAR