BEGIN:VCALENDAR
VERSION:2.0
PRODID:-//Trout Lake Abbey - ECPv6.15.20//NONSGML v1.0//EN
CALSCALE:GREGORIAN
METHOD:PUBLISH
X-WR-CALNAME:Trout Lake Abbey
X-ORIGINAL-URL:https://www.tlabbey.com
X-WR-CALDESC:Events for Trout Lake Abbey
REFRESH-INTERVAL;VALUE=DURATION:PT1H
X-Robots-Tag:noindex
X-PUBLISHED-TTL:PT1H
BEGIN:VTIMEZONE
TZID:America/Los_Angeles
BEGIN:DAYLIGHT
TZOFFSETFROM:-0800
TZOFFSETTO:-0700
TZNAME:PDT
DTSTART:20220313T100000
END:DAYLIGHT
BEGIN:STANDARD
TZOFFSETFROM:-0700
TZOFFSETTO:-0800
TZNAME:PST
DTSTART:20221106T090000
END:STANDARD
BEGIN:DAYLIGHT
TZOFFSETFROM:-0800
TZOFFSETTO:-0700
TZNAME:PDT
DTSTART:20230312T100000
END:DAYLIGHT
BEGIN:STANDARD
TZOFFSETFROM:-0700
TZOFFSETTO:-0800
TZNAME:PST
DTSTART:20231105T090000
END:STANDARD
BEGIN:DAYLIGHT
TZOFFSETFROM:-0800
TZOFFSETTO:-0700
TZNAME:PDT
DTSTART:20240310T100000
END:DAYLIGHT
BEGIN:STANDARD
TZOFFSETFROM:-0700
TZOFFSETTO:-0800
TZNAME:PST
DTSTART:20241103T090000
END:STANDARD
END:VTIMEZONE
BEGIN:VEVENT
DTSTART;VALUE=DATE:20230701
DTEND;VALUE=DATE:20230706
DTSTAMP:20260420T024440
CREATED:20230215T195632Z
LAST-MODIFIED:20231004T191002Z
UID:10002466-1688169600-1688601599@www.tlabbey.com
SUMMARY:17th Annual Northwest Zikr Immersion
DESCRIPTION:TUITION: $625 ($50 more after JUNE 1st) \nFull payment or a deposit of $100 to reserve your spot. (Full payment due by June 1st) \nWAYS TO PAY : \n\nVENMO@bodhibe\nMAIL TO: KUKUNA PO BOX 1268 Haiku\, HI 96708\nPAYPAL at: KukunaRetreats@gmail.com\n\nRegister early\, this retreat fills up.  \nCamping\, car camping\, limited bedrooms\, huts\, dorms available- inquire early!  \nGourmet vegetarian meals included \nCONTACT: Ananda (707) 845.2711   ananda249@outlook.com \nAirport ride contact: Gyoshin (360) 970.9613    karen22lohmann@gmail.com \n 
URL:https://www.tlabbey.com/event/17th-annual-northwest-zikr-immersion/
LOCATION:Trout Lake Abbey\, 46 Stoller Rd.\, Trout Lake\, WA\, 98650\, United States
CATEGORIES:Non TLA Facilitated,Open Events and Retreats
ATTACH;FMTTYPE=image/jpeg:https://www.tlabbey.com/wp-content/uploads/2023/02/2023.TROUT_.LAKE_.WEB_.jpg
END:VEVENT
BEGIN:VEVENT
DTSTART;VALUE=DATE:20230714
DTEND;VALUE=DATE:20230717
DTSTAMP:20260420T024440
CREATED:20230713T132713Z
LAST-MODIFIED:20231004T191001Z
UID:10002610-1689292800-1689551999@www.tlabbey.com
SUMMARY:Yoga Retreat w/ Michele Loew
DESCRIPTION:Michele Loew is an international yoga teacher & practitioner of Hatha & Tibetan Yogas & the founding director of the Vajra Yoga School of Comparative Buddhist & Indic Yogic studies she co-teaches with Professor Robert A.F. Thurman at Menla & abroad.  She has taught\, practiced\, & studied avidly since 1998\, and continues to run her longtime yoga school and beloved studio\, The Yoga Space in Portland\, Oregon. She is also on the Board of Tibet House US and is devoted to supporting His Holiness The Dalai Lama’s mission\, as well as preserving Tibetan Culture and Dharma. You can find her often in New York sharing yoga at Tibet House or upstate at Menla Mountain Retreat.   \nHer love and commitment to the unexcelled yoga tantras of Vajrayana as a path we can take towards perfect enlightenment and the integration of those teachings with the Hatha yogas more broadly practiced today\, seeing both as powerful and not separate extensions of one another\, infuses her work with great joy & commitment to a more compassionate and awakened world.   \nShe honors the lineage of teachers she comes from and bows to her longtime Hatha & Classical Yoga teacher\, Richard Freeman for elucidating the middle path of love with the utmost clarity and kindness.  To Robert Thurman\, her beloved principle teacher in Buddhist science and her root guru His Holiness the Dalai Lama\, the deepest bow for empowering her in the anuttara yogas.   \nMichele teaches regular classes and 200 & 500 YA trainings in Yoga & Yoga Nidra in Portland & New York\, as well as retreats and workshops internationally.   Follow her on instagram @micheleloew
URL:https://www.tlabbey.com/event/yoga-retreat-w-michele-loew/
LOCATION:Trout Lake Abbey\, 46 Stoller Rd.\, Trout Lake\, WA\, 98650\, United States
CATEGORIES:Non TLA Facilitated,Open Events and Retreats,Yoga
END:VEVENT
BEGIN:VEVENT
DTSTART;TZID=America/Los_Angeles:20230729T180000
DTEND;TZID=America/Los_Angeles:20230729T210000
DTSTAMP:20260420T024440
CREATED:20230713T132713Z
LAST-MODIFIED:20231004T191200Z
UID:10002615-1690653600-1690664400@www.tlabbey.com
SUMMARY:Lughnasadh 2023
DESCRIPTION:We will be celebrating Lughnasadh at the White Mountain Druid Sanctary at Trout Lake Abbey on Saturday\, July 29\, 2023. This will be an Irish pantheon rite. Bíodh sé amhlaidh! \nPotluck 6 pm\nRitual 7:30 pm \nTrout Lake Abbey\n46 Stoller Road\nTrout Lake\, WA 98650 \nThis is the rite of the Sovereignty of Lugh Samildanach. He manages this through the good offices of the Goddess of Sovereignty here in Trout Lake\, the Lady of the White Salmon. This is also a rite of the harvest as our crops begin to ripen and the fruits of our labors are available to us all. \nWe will hold this rite outdoors in the stone circle.  We will be honoring the God Lugh Samildanach and the Lady of the White Salmon (the goddess of Trout Lake Valley)\, at this rite. Appropriate offerings include first fruits from your garden\, produce\, whiskey\, beer\, butter or oil\, precious metal or stones\, etc..  As always\, praise offerings of song\, poetry\, dance\, etc. are always welcome. \nThere will be a potluck before the ritual\, held in the main house. \nWe look forward to seeing you here on Saturday\, July 29!
URL:https://www.tlabbey.com/event/lughnasadh-2023/
LOCATION:White Mountain Druid Sanctuary at Trout Lake Abbey\, 46 Stoller Road\, Trout Lake\, WA\, 98650\, United States
CATEGORIES:Open Events and Retreats,White Mountain Druid Sanctuary Events
ATTACH;FMTTYPE=image/png:https://www.tlabbey.com/wp-content/uploads/2023/07/LughSalmona-BDi7Ul.tmp_.png
END:VEVENT
END:VCALENDAR