BEGIN:VCALENDAR
VERSION:2.0
PRODID:-//Trout Lake Abbey - ECPv6.15.20//NONSGML v1.0//EN
CALSCALE:GREGORIAN
METHOD:PUBLISH
X-WR-CALNAME:Trout Lake Abbey
X-ORIGINAL-URL:https://www.tlabbey.com
X-WR-CALDESC:Events for Trout Lake Abbey
REFRESH-INTERVAL;VALUE=DURATION:PT1H
X-Robots-Tag:noindex
X-PUBLISHED-TTL:PT1H
BEGIN:VTIMEZONE
TZID:America/Los_Angeles
BEGIN:DAYLIGHT
TZOFFSETFROM:-0800
TZOFFSETTO:-0700
TZNAME:PDT
DTSTART:20230312T100000
END:DAYLIGHT
BEGIN:STANDARD
TZOFFSETFROM:-0700
TZOFFSETTO:-0800
TZNAME:PST
DTSTART:20231105T090000
END:STANDARD
BEGIN:DAYLIGHT
TZOFFSETFROM:-0800
TZOFFSETTO:-0700
TZNAME:PDT
DTSTART:20240310T100000
END:DAYLIGHT
BEGIN:STANDARD
TZOFFSETFROM:-0700
TZOFFSETTO:-0800
TZNAME:PST
DTSTART:20241103T090000
END:STANDARD
BEGIN:DAYLIGHT
TZOFFSETFROM:-0800
TZOFFSETTO:-0700
TZNAME:PDT
DTSTART:20250309T100000
END:DAYLIGHT
BEGIN:STANDARD
TZOFFSETFROM:-0700
TZOFFSETTO:-0800
TZNAME:PST
DTSTART:20251102T090000
END:STANDARD
END:VTIMEZONE
BEGIN:VEVENT
DTSTART;VALUE=DATE:20240809
DTEND;VALUE=DATE:20240812
DTSTAMP:20260424T092733
CREATED:20240712T171930Z
LAST-MODIFIED:20240715T173428Z
UID:10006107-1723161600-1723420799@www.tlabbey.com
SUMMARY:Kids Camp
DESCRIPTION:Fill out the REGISTRATION FORM to RSVP   \nKids will play while learning about Metta (loving kindness)\, Compassion\, Responsibility\, and Acceptance.  Camp will be led by adults who are great fun to be with–(and are really overgrown kids themselves.)     \n  \nContact us for any questions at (360) 980 0904 or Giaithoat@gmail.com
URL:https://www.tlabbey.com/event/kids-camp/
LOCATION:Mt. Adams Buddhist Temple\, 46 Stoller Rd\, Trout Lake\, WA\, 98650\, United States
CATEGORIES:Buddhist Classes,Buddhist Retreats,Featured,Mt. Adams Buddhist Temple Meditations, Events, & Services
ATTACH;FMTTYPE=image/jpeg:https://www.tlabbey.com/wp-content/uploads/2024/07/kids-camp-2024-lu55wu.tmp_.jpg
ORGANIZER;CN="Th%E1%BA%A7y Vinh Minh":MAILTO:giaithoat@gmail.com
END:VEVENT
BEGIN:VEVENT
DTSTART;TZID=America/Los_Angeles:20240810T080000
DTEND;TZID=America/Los_Angeles:20240810T090000
DTSTAMP:20260424T092733
CREATED:20240711T170433Z
LAST-MODIFIED:20240715T173434Z
UID:10006106-1723276800-1723280400@www.tlabbey.com
SUMMARY:Ullambana Celebration
DESCRIPTION:The Yulanpen Sutra\, also known as the Ullambana Sutra\, is a Mahayana sutra concerning filial piety. (Historic story about a monk who saved his mother).  Join us for our regular Saturday morning service which will include a celebration of this story of compassion.   \nUllambana\, surprisingly\, has multiple stories about its origin. Based on the region where it is celebrated\, people have passed on varying stories about the day. The word ‘Ullambana’ itself is probably derived from the Indian Language of Sanskrit and was translated into Chinese to form ‘Ullambana.’ In India\, you would probably hear people say “Yulanpen Sutra\,” which is in more than one way similar to the Chinese Ullambana. \nThe story behind the day is interesting. The story is of a boy\, Sariputta\, who rescues his mother who is trapped in a life-cycle continuum. Legend has it that Petavatthu\, Sariputta’s mother\, is trapped in the fifth life cycle as a ghost\, unable to come back as a human. To help his mother\, Sariputta builds huts and fills them with food for the needy to eat from as a gesture of his sacrifice. The gods accept his sacrifice and his mother is freed. \nSee https://en.wikipedia.org/wiki/Yulanpen_Sutra    \n  \nPhoto credit: By unknown artist(Life time: 19th century) – Original publication: not published Immediate source:http://academic.reed.edu/hellscrolls/scrolls/Aseries/A10/A10c.html\, PD-US\, https://en.wikipedia.org/w/index.php?curid=44727949
URL:https://www.tlabbey.com/event/ullambana-celebration/
LOCATION:Mt. Adams Buddhist Temple\, 46 Stoller Rd\, Trout Lake\, WA\, 98650\, United States
CATEGORIES:Featured,Mt. Adams Buddhist Temple Meditations, Events, & Services
ATTACH;FMTTYPE=image/jpeg:https://www.tlabbey.com/wp-content/uploads/2024/07/Mulian_Saves_HIs_Mother-7ilIJI.tmp_.jpg
END:VEVENT
END:VCALENDAR