BEGIN:VCALENDAR
VERSION:2.0
PRODID:-//Trout Lake Abbey - ECPv6.15.20//NONSGML v1.0//EN
CALSCALE:GREGORIAN
METHOD:PUBLISH
X-WR-CALNAME:Trout Lake Abbey
X-ORIGINAL-URL:https://www.tlabbey.com
X-WR-CALDESC:Events for Trout Lake Abbey
REFRESH-INTERVAL;VALUE=DURATION:PT1H
X-Robots-Tag:noindex
X-PUBLISHED-TTL:PT1H
BEGIN:VTIMEZONE
TZID:America/Los_Angeles
BEGIN:DAYLIGHT
TZOFFSETFROM:-0800
TZOFFSETTO:-0700
TZNAME:PDT
DTSTART:20220313T100000
END:DAYLIGHT
BEGIN:STANDARD
TZOFFSETFROM:-0700
TZOFFSETTO:-0800
TZNAME:PST
DTSTART:20221106T090000
END:STANDARD
BEGIN:DAYLIGHT
TZOFFSETFROM:-0800
TZOFFSETTO:-0700
TZNAME:PDT
DTSTART:20230312T100000
END:DAYLIGHT
BEGIN:STANDARD
TZOFFSETFROM:-0700
TZOFFSETTO:-0800
TZNAME:PST
DTSTART:20231105T090000
END:STANDARD
BEGIN:DAYLIGHT
TZOFFSETFROM:-0800
TZOFFSETTO:-0700
TZNAME:PDT
DTSTART:20240310T100000
END:DAYLIGHT
BEGIN:STANDARD
TZOFFSETFROM:-0700
TZOFFSETTO:-0800
TZNAME:PST
DTSTART:20241103T090000
END:STANDARD
END:VTIMEZONE
BEGIN:VEVENT
DTSTART;TZID=America/Los_Angeles:20230909T090000
DTEND;TZID=America/Los_Angeles:20230910T130000
DTSTAMP:20260425T073818
CREATED:20230830T052003Z
LAST-MODIFIED:20240704T184332Z
UID:10002797-1694250000-1694350800@www.tlabbey.com
SUMMARY:Buu Hung Monastery Eight Precepts Retreat
DESCRIPTION:Visit Mt. Adams Buddhist Temple located at the foot of Mt. Adams in Trout Lake\, Washington for this precepts retreat. \n\n\n\n\n\n\nMaster Kozen (Thich Minh Tinh)\, Master Thich Tam Hoan\, Master Thich Van Hai\, and Nun Hue Huong will lead the Eight Precepts Retreat. \n\n1. To refrain from intentionally taking the life of any living creature.\n2. To refrain from taking what is not given.\n3. To refrain from any sexual activity: no physical contact or intimacy with the opposite sex.\n4. To refrain from dishonest speech.\n5. To refrain from using alcohol or non-medicinal drugs. (Smoking is banned in the monastery/Jhana Grove retreat centre).\n6. To refrain from eating after noon. (Non-milk drinks\, juice\, sweets\, sugar & honey are allowable).\n7. To refrain from dancing\, singing\, playing music\, and wearing cosmetics\, perfume\, and jewellery.\n8. To refrain from using luxurious beds and seats.\n\nVegetarian meals and accommodations are included. \nOther activities will include: \n\n• Seated meditation instruction\n• Metta (loving kindness) practice\n• Gratitude practice\n• Walking meditation\n• Discussions and Q&A\n\n\n\n\n\n\n\nSaturday\n\n\n\n9:30 am – 9:45 am\nPracticing rules (altogether)\n\n\n9:45 am – 11:00 am\nEight Precepts Ceremony (altogether)\n\n\n12:30 pm – 1:15 pm\nSilent Mindful Lunch (altogether)\n\n\n1:15 pm – 2:00 pm\nRelaxing Nap\n\n\n2:30 pm – 3:30 pm\nMeditation/Dharma talk- Master Kozen/Mr. See\n\n\n3:30 pm – 4:00 pm\nBreak time\n\n\n4:00 pm – 5:00 pm\nYour Own Practice or Question/Answer\,\nMaster Kozen/Mr. See\n\n\n5:00 pm – 6:00 pm\nBreak time\n\n\n6:00 pm – 6:30 pm\nDharma Talk- Master Kozen (altogether)\n\n\n6:30 pm – 7:30 pm\nDharma Talk – Master Kozen/Mr. See\n\n\n7:30 pm – 8:00 pm\nBreak time\n\n\n8:00 pm – 8:30 pm\nMeditation ( altogether)\n\n\n8:30 pm – 9:30 pm\nYour own practice or Question/Answer\nMaster Kozen/Mr. See\n\n\n10:00 pm\nGood night Sleep\n\n\n\nSunday\n\n\n\n5:30 am – 6:00 am\nMeditation (altogether )\n\n\n6:00 am – 7:00 am\nDharma Talk – Master Kozen/Mr. See\n\n\n7:00 am – 8:30 am\nClosing Ceremony (altogether)\n\n\n9:00 am\nBreakfast\n\n\n10:00 am- 11: 30 am\nTea Dharma Activities (altogether)\n\n\n12:30 pm\nSack Lunch — Good Bye\n\n\n\n  \nThe End
URL:https://www.tlabbey.com/event/buu-hung-monastery-eight-precepts-retreat/
LOCATION:Mt. Adams Buddhist Temple\, 46 Stoller Rd\, Trout Lake\, WA\, 98650\, United States
CATEGORIES:Featured,Mt. Adams Buddhist Temple Meditations, Events, & Services
ATTACH;FMTTYPE=image/jpeg:https://www.tlabbey.com/wp-content/uploads/2023/08/tara-5h4wji.tmp_.jpg
END:VEVENT
END:VCALENDAR