BEGIN:VCALENDAR
VERSION:2.0
PRODID:-//Trout Lake Abbey - ECPv6.15.20//NONSGML v1.0//EN
CALSCALE:GREGORIAN
METHOD:PUBLISH
X-ORIGINAL-URL:https://www.tlabbey.com
X-WR-CALDESC:Events for Trout Lake Abbey
REFRESH-INTERVAL;VALUE=DURATION:PT1H
X-Robots-Tag:noindex
X-PUBLISHED-TTL:PT1H
BEGIN:VTIMEZONE
TZID:America/Los_Angeles
BEGIN:DAYLIGHT
TZOFFSETFROM:-0800
TZOFFSETTO:-0700
TZNAME:PDT
DTSTART:20220313T100000
END:DAYLIGHT
BEGIN:STANDARD
TZOFFSETFROM:-0700
TZOFFSETTO:-0800
TZNAME:PST
DTSTART:20221106T090000
END:STANDARD
BEGIN:DAYLIGHT
TZOFFSETFROM:-0800
TZOFFSETTO:-0700
TZNAME:PDT
DTSTART:20230312T100000
END:DAYLIGHT
BEGIN:STANDARD
TZOFFSETFROM:-0700
TZOFFSETTO:-0800
TZNAME:PST
DTSTART:20231105T090000
END:STANDARD
BEGIN:DAYLIGHT
TZOFFSETFROM:-0800
TZOFFSETTO:-0700
TZNAME:PDT
DTSTART:20240310T100000
END:DAYLIGHT
BEGIN:STANDARD
TZOFFSETFROM:-0700
TZOFFSETTO:-0800
TZNAME:PST
DTSTART:20241103T090000
END:STANDARD
BEGIN:DAYLIGHT
TZOFFSETFROM:-0800
TZOFFSETTO:-0700
TZNAME:PDT
DTSTART:20250309T100000
END:DAYLIGHT
BEGIN:STANDARD
TZOFFSETFROM:-0700
TZOFFSETTO:-0800
TZNAME:PST
DTSTART:20251102T090000
END:STANDARD
END:VTIMEZONE
BEGIN:VEVENT
DTSTART;TZID=America/Los_Angeles:20240203T163000
DTEND;TZID=America/Los_Angeles:20240203T183000
DTSTAMP:20260420T075124
CREATED:20240104T181942Z
LAST-MODIFIED:20240203T191934Z
UID:10005730-1706977800-1706985000@www.tlabbey.com
SUMMARY:Imbolc 2024
DESCRIPTION:We will be celebrating the Feast of Imbolc at Trout Lake Abbey on Saturday\, February 3\, 2023 at 4:30 pm. This will be an Irish pantheon rite. Bíodh sé amhlaidh! \nTrout Lake Abbey\n46 Stoller Road\nTrout Lake\, WA 98650 \nThis is the rite of the first glimmers of spring\, and the hope of warmer days ahead. In Ireland\, this is a time when the ewes begin to show signs of lactation\, and candles are no longer needed to see when milking the cows. \nWe will be honoring the goddess Brigit\, transfunctional Lady of poets and the hearth\, of workers in metal\, and of healing. Appropriate offerings for Brigit include milk and butter\, bread\, worked metal items\, and poetry. Praise offerings are always welcome! \nWe will hold this rite indoors in the Sanctuary. Dress warmly for our processional. \nThere will be a potluck following the ritual\, held in the main house. \nWe look forward to seeing you here on Saturday\, February 3!
URL:https://www.tlabbey.com/event/imbolc-2024-2/
LOCATION:White Mountain Druid Sanctuary at Trout Lake Abbey\, 46 Stoller Road\, Trout Lake\, WA\, 98650\, United States
CATEGORIES:Druid
ATTACH;FMTTYPE=image/jpeg:https://www.tlabbey.com/wp-content/uploads/2024/01/Brigid-Icon-TNpzNL.tmp_.jpg
END:VEVENT
BEGIN:VEVENT
DTSTART;TZID=America/Los_Angeles:20231216T153000
DTEND;TZID=America/Los_Angeles:20231216T170000
DTSTAMP:20260420T075124
CREATED:20231116T160451Z
LAST-MODIFIED:20231216T173446Z
UID:10005644-1702740600-1702746000@www.tlabbey.com
SUMMARY:Winter Solstice 2023
DESCRIPTION:We will celebrate the Winter Solstice\, the Feast of the Return of the Sun\, at the White Mountain Druid Sanctuary at Trout Lake Abbey. This will be a Welsh Celebration of the God Lleu Llaw Gyffes and the God Gwydion. Bydded felly! \nSaturday\, December 16\, 2023\nGathering at 3:30 pm \n46 Stoller Road\nTrout Lake\, WA 98650\n(On Google maps search for Trout Lake Abbey) \nThe Winter Solstice is the time of the shortest day and longest night of the year. The sun is at its weakest and darkness pervades the world. But it is also the time that the sun begins its return to strength\, growing brighter and more powerful until it reaches its apex at the Summer Solstice in June. \nWe will also honor the God Lleu Llaw Gyffes\, who was wounded and then transformed into an eagle\, only to perch dying at the top of an oak tree. There his uncle\, the magical God Gwydion\, found Him and healed Him. \nAppropriate offerings for Lleu and Gwydion include pork or other food\, beer\, whiskey\, etc. As always\, praise offerings of song\, poetry\, dance\, etc. are always welcome. \nWe will hold this rite in the Sanctuary\, which is heated. \nThere will be a potluck following the ritual\, held in the main house. \nWe look forward to seeing you here on Saturday the 16th!
URL:https://www.tlabbey.com/event/winter-solstice-2023-2/
LOCATION:White Mountain Druid Sanctuary at Trout Lake Abbey\, 46 Stoller Road\, Trout Lake\, WA\, 98650\, United States
CATEGORIES:Druid
ATTACH;FMTTYPE=image/jpeg:https://www.tlabbey.com/wp-content/uploads/2023/11/LleuShrineNightb5-2020-f7n1sT.tmp_.jpg
END:VEVENT
END:VCALENDAR