BEGIN:VCALENDAR
VERSION:2.0
PRODID:-//Trout Lake Abbey - ECPv6.15.20//NONSGML v1.0//EN
CALSCALE:GREGORIAN
METHOD:PUBLISH
X-ORIGINAL-URL:https://www.tlabbey.com
X-WR-CALDESC:Events for Trout Lake Abbey
REFRESH-INTERVAL;VALUE=DURATION:PT1H
X-Robots-Tag:noindex
X-PUBLISHED-TTL:PT1H
BEGIN:VTIMEZONE
TZID:America/Los_Angeles
BEGIN:DAYLIGHT
TZOFFSETFROM:-0800
TZOFFSETTO:-0700
TZNAME:PDT
DTSTART:20240310T100000
END:DAYLIGHT
BEGIN:STANDARD
TZOFFSETFROM:-0700
TZOFFSETTO:-0800
TZNAME:PST
DTSTART:20241103T090000
END:STANDARD
BEGIN:DAYLIGHT
TZOFFSETFROM:-0800
TZOFFSETTO:-0700
TZNAME:PDT
DTSTART:20250309T100000
END:DAYLIGHT
BEGIN:STANDARD
TZOFFSETFROM:-0700
TZOFFSETTO:-0800
TZNAME:PST
DTSTART:20251102T090000
END:STANDARD
BEGIN:DAYLIGHT
TZOFFSETFROM:-0800
TZOFFSETTO:-0700
TZNAME:PDT
DTSTART:20260308T100000
END:DAYLIGHT
BEGIN:STANDARD
TZOFFSETFROM:-0700
TZOFFSETTO:-0800
TZNAME:PST
DTSTART:20261101T090000
END:STANDARD
END:VTIMEZONE
BEGIN:VEVENT
DTSTART;VALUE=DATE:20250613
DTEND;VALUE=DATE:20250616
DTSTAMP:20260420T140601
CREATED:20250516T160420Z
LAST-MODIFIED:20250610T091922Z
UID:10008717-1749772800-1750031999@www.tlabbey.com
SUMMARY:Forest Bathing Retreat–Gentle Practice
DESCRIPTION:Rick SantAngelo is hosting this retreat at his house in Vancouver\, WA for a weekend of meditation\, walking meditation\, forest bathing (shinrin  yoku)\, Dharma talks\, discussion and sharing\, and vegetarian meals.  Please register well in advance so Rick can plan accordingly.   \n\n\n\n\n\n\n\n\n\n\n\n\n\n\n\n\n\n\n\n\n\n\n\n\n\n\n\n\n\n\n\n\n\n\n\nNo one is turned away due to financial hardship. \n\nIf money is a problem\, please use the discounted ticket option or just make a small donation.
URL:https://www.tlabbey.com/event/forest-bathing-retreat-gentle-practice/
LOCATION:Vancouver\, WA\, Vancouver\, United States
CATEGORIES:Buddhist Retreats,Featured
END:VEVENT
BEGIN:VEVENT
DTSTART;VALUE=DATE:20250613
DTEND;VALUE=DATE:20250616
DTSTAMP:20260420T140601
CREATED:20250607T090941Z
LAST-MODIFIED:20250607T090941Z
UID:10008751-1749772800-1750031999@www.tlabbey.com
SUMMARY:Forest Bathing Retreat–Gentle Practice
DESCRIPTION:Rick SantAngelo is hosting this retreat at his house in Vancouver\, WA for a weekend of meditation\, walking meditation\, forest bathing (shinrin  yoku)\, Dharma talks\, discussion and sharing\, and vegetarian meals.  Please register well in advance so Rick can plan accordingly.   \n\n\n\n\n\n\n\n\n\n\n\n\n\n\n\n\n\n\n\n\n\n\n\n\n\n\n\n\n\n\n\n\n\n\n\nNo one is turned away due to financial hardship. \n\nIf money is a problem\, please use the discounted ticket option or just make a small donation.
URL:https://www.tlabbey.com/event/forest-bathing-retreat-gentle-practice-2/
LOCATION:Vancouver\, WA\, Vancouver\, United States
CATEGORIES:Buddhist Retreats
END:VEVENT
END:VCALENDAR