BEGIN:VCALENDAR
VERSION:2.0
PRODID:-//Trout Lake Abbey - ECPv6.15.20//NONSGML v1.0//EN
CALSCALE:GREGORIAN
METHOD:PUBLISH
X-ORIGINAL-URL:https://www.tlabbey.com
X-WR-CALDESC:Events for Trout Lake Abbey
REFRESH-INTERVAL;VALUE=DURATION:PT1H
X-Robots-Tag:noindex
X-PUBLISHED-TTL:PT1H
BEGIN:VTIMEZONE
TZID:America/Los_Angeles
BEGIN:DAYLIGHT
TZOFFSETFROM:-0800
TZOFFSETTO:-0700
TZNAME:PDT
DTSTART:20210314T100000
END:DAYLIGHT
BEGIN:STANDARD
TZOFFSETFROM:-0700
TZOFFSETTO:-0800
TZNAME:PST
DTSTART:20211107T090000
END:STANDARD
BEGIN:DAYLIGHT
TZOFFSETFROM:-0800
TZOFFSETTO:-0700
TZNAME:PDT
DTSTART:20220313T100000
END:DAYLIGHT
BEGIN:STANDARD
TZOFFSETFROM:-0700
TZOFFSETTO:-0800
TZNAME:PST
DTSTART:20221106T090000
END:STANDARD
BEGIN:DAYLIGHT
TZOFFSETFROM:-0800
TZOFFSETTO:-0700
TZNAME:PDT
DTSTART:20230312T100000
END:DAYLIGHT
BEGIN:STANDARD
TZOFFSETFROM:-0700
TZOFFSETTO:-0800
TZNAME:PST
DTSTART:20231105T090000
END:STANDARD
BEGIN:DAYLIGHT
TZOFFSETFROM:-0800
TZOFFSETTO:-0700
TZNAME:PDT
DTSTART:20240310T100000
END:DAYLIGHT
BEGIN:STANDARD
TZOFFSETFROM:-0700
TZOFFSETTO:-0800
TZNAME:PST
DTSTART:20241103T090000
END:STANDARD
END:VTIMEZONE
BEGIN:VTIMEZONE
TZID:UTC
BEGIN:STANDARD
TZOFFSETFROM:+0000
TZOFFSETTO:+0000
TZNAME:UTC
DTSTART:20220101T000000
END:STANDARD
END:VTIMEZONE
BEGIN:VEVENT
DTSTART;TZID=America/Los_Angeles:20230721T063000
DTEND;TZID=America/Los_Angeles:20230721T073000
DTSTAMP:20260420T191600
CREATED:20230713T132722Z
LAST-MODIFIED:20230721T060535Z
UID:10002645-1689921000-1689924600@www.tlabbey.com
SUMMARY:Morning Meditation
DESCRIPTION:Four different teachers will rotate talks with a Dharma talk\, meditation\, sutra\, and metta practices. 🙏 \n>>>> ZOOM ID/Link <<<<\nhttps://us02web.zoom.us/j/5093952030 \nAll are welcome to be a part of our morning service. Experience not necessary. Those of any faith or lack thereof are welcome. All that is required is an open mind to learn how to promote wellness\, happiness\, love\, and peace to oneself and all sentient beings. Typically a service will include the following: \n* Check in. (How you’re doing.)\n* Silent meditation\, seated on cushion\, chair\, or one of the pews.\n* Dharma talk from either Thay Kozen or one of five other teachers. (Buddhist teaching on how to alleviate suffering and promote happiness and peace.)\n* Metta practice. (Loving kindness.)\n* Sutra recitation and discussion. (Sutras are the written Dharma teachings.)\n* Much love and laughter.\n🙏
URL:https://www.tlabbey.com/event/morning-meditation-7/
LOCATION:Mt. Adams Buddhist Temple\, 46 Stoller Rd\, Trout Lake\, WA\, 98650\, United States
CATEGORIES:Mt. Adams Buddhist Temple Meditations, Events, & Services
END:VEVENT
BEGIN:VEVENT
DTSTART;TZID=America/Los_Angeles:20230720T063000
DTEND;TZID=America/Los_Angeles:20230720T073000
DTSTAMP:20260420T191600
CREATED:20230713T132722Z
LAST-MODIFIED:20230720T060547Z
UID:10002643-1689834600-1689838200@www.tlabbey.com
SUMMARY:Morning Meditation
DESCRIPTION:Four different teachers will rotate talks with a Dharma talk\, meditation\, sutra\, and metta practices. 🙏 \n>>>> ZOOM ID/Link <<<<\nhttps://us02web.zoom.us/j/5093952030 \nAll are welcome to be a part of our morning service. Experience not necessary. Those of any faith or lack thereof are welcome. All that is required is an open mind to learn how to promote wellness\, happiness\, love\, and peace to oneself and all sentient beings. Typically a service will include the following: \n* Check in. (How you’re doing.)\n* Silent meditation\, seated on cushion\, chair\, or one of the pews.\n* Dharma talk from either Thay Kozen or one of five other teachers. (Buddhist teaching on how to alleviate suffering and promote happiness and peace.)\n* Metta practice. (Loving kindness.)\n* Sutra recitation and discussion. (Sutras are the written Dharma teachings.)\n* Much love and laughter.\n🙏
URL:https://www.tlabbey.com/event/morning-meditation-6/
LOCATION:Mt. Adams Buddhist Temple\, 46 Stoller Rd\, Trout Lake\, WA\, 98650\, United States
CATEGORIES:Mt. Adams Buddhist Temple Meditations, Events, & Services
END:VEVENT
BEGIN:VEVENT
DTSTART;TZID=America/Los_Angeles:20230719T063000
DTEND;TZID=America/Los_Angeles:20230719T073000
DTSTAMP:20260420T191600
CREATED:20230713T132722Z
LAST-MODIFIED:20230719T053118Z
UID:10002641-1689748200-1689751800@www.tlabbey.com
SUMMARY:Morning Meditation
DESCRIPTION:Four different teachers will rotate talks with a Dharma talk\, meditation\, sutra\, and metta practices. 🙏 \n>>>> ZOOM ID/Link <<<<\nhttps://us02web.zoom.us/j/5093952030 \nAll are welcome to be a part of our morning service. Experience not necessary. Those of any faith or lack thereof are welcome. All that is required is an open mind to learn how to promote wellness\, happiness\, love\, and peace to oneself and all sentient beings. Typically a service will include the following: \n* Check in. (How you’re doing.)\n* Silent meditation\, seated on cushion\, chair\, or one of the pews.\n* Dharma talk from either Thay Kozen or one of five other teachers. (Buddhist teaching on how to alleviate suffering and promote happiness and peace.)\n* Metta practice. (Loving kindness.)\n* Sutra recitation and discussion. (Sutras are the written Dharma teachings.)\n* Much love and laughter.\n🙏
URL:https://www.tlabbey.com/event/morning-meditation-5/
LOCATION:Mt. Adams Buddhist Temple\, 46 Stoller Rd\, Trout Lake\, WA\, 98650\, United States
CATEGORIES:Mt. Adams Buddhist Temple Meditations, Events, & Services
END:VEVENT
BEGIN:VEVENT
DTSTART;TZID=UTC:20230718T120000
DTEND;TZID=UTC:20230718T130000
DTSTAMP:20260420T191600
CREATED:20230713T132722Z
LAST-MODIFIED:20230718T050504Z
UID:10002639-1689681600-1689685200@www.tlabbey.com
SUMMARY:Meditation Service in Hood River
DESCRIPTION:Join us in a sharing community of open-hearted individuals for a weekly sitting meditation practice. We sit for 20 to 30 minutes and practice metta: wishing love\, peace\, wellness\, and happiness to ourselves and others. Hosted by the Mt. Adams Buddhist Center of Trout Lake\, WA supported by Rev. Kozen Sampson\, a Buddhist monk in the Vietnamese Thien tradition. \nWhat to bring\n\nNothing\, donations (dana) accepted.\n\nNot available on Zoom.  
URL:https://www.tlabbey.com/event/meditation-service-in-hood-river/
LOCATION:Trinity Natural Medicine\, 1412 13th St Suite 200\, Hood River\, OR\, 97031
CATEGORIES:Mt. Adams Buddhist Temple Meditations, Events, & Services
END:VEVENT
BEGIN:VEVENT
DTSTART;TZID=America/Los_Angeles:20230718T063000
DTEND;TZID=America/Los_Angeles:20230718T073000
DTSTAMP:20260420T191600
CREATED:20230713T132722Z
LAST-MODIFIED:20230718T050504Z
UID:10002638-1689661800-1689665400@www.tlabbey.com
SUMMARY:Morning Meditation
DESCRIPTION:Four different teachers will rotate talks with a Dharma talk\, meditation\, sutra\, and metta practices. 🙏 \n>>>> ZOOM ID/Link <<<<\nhttps://us02web.zoom.us/j/5093952030 \nAll are welcome to be a part of our morning service. Experience not necessary. Those of any faith or lack thereof are welcome. All that is required is an open mind to learn how to promote wellness\, happiness\, love\, and peace to oneself and all sentient beings. Typically a service will include the following: \n* Check in. (How you’re doing.)\n* Silent meditation\, seated on cushion\, chair\, or one of the pews.\n* Dharma talk from either Thay Kozen or one of five other teachers. (Buddhist teaching on how to alleviate suffering and promote happiness and peace.)\n* Metta practice. (Loving kindness.)\n* Sutra recitation and discussion. (Sutras are the written Dharma teachings.)\n* Much love and laughter.\n🙏
URL:https://www.tlabbey.com/event/morning-meditation-4/
LOCATION:Mt. Adams Buddhist Temple\, 46 Stoller Rd\, Trout Lake\, WA\, 98650\, United States
CATEGORIES:Mt. Adams Buddhist Temple Meditations, Events, & Services
END:VEVENT
BEGIN:VEVENT
DTSTART;TZID=America/Los_Angeles:20230717T120000
DTEND;TZID=America/Los_Angeles:20230717T130000
DTSTAMP:20260420T191600
CREATED:20230713T132720Z
LAST-MODIFIED:20231004T185904Z
UID:10002636-1689595200-1689598800@www.tlabbey.com
SUMMARY:Trinity Sangha Monday Meditation (now online!)
DESCRIPTION:This meeting can now be attended online via zoom HERE\n\nJoin Mt Adams Zen Buddhist Temple & our satellite sangha at Trinity Natural Medicine in  Hood River\, OR. \nEvery Monday  12-1 pm \nNo charge\, donations appreciated. 
URL:https://www.tlabbey.com/event/trinity-sangha-monday-meditation-now-online/
LOCATION:Trinity Natural Medicine\, 1412 13th St Suite 200\, Hood River\, OR\, 97031
CATEGORIES:Mt. Adams Buddhist Temple Meditations, Events, & Services
ATTACH;FMTTYPE=image/jpeg:https://www.tlabbey.com/wp-content/uploads/2023/07/lina-trochez-ktPKyUs3Qjs-unsplash-1536x1025-1-TPEnyQ.tmp_.jpg
END:VEVENT
BEGIN:VEVENT
DTSTART;TZID=America/Los_Angeles:20230717T063000
DTEND;TZID=America/Los_Angeles:20230717T073000
DTSTAMP:20260420T191600
CREATED:20230713T132720Z
LAST-MODIFIED:20230717T044718Z
UID:10002635-1689575400-1689579000@www.tlabbey.com
SUMMARY:Morning Meditation
DESCRIPTION:Four different teachers will rotate talks with a Dharma talk\, meditation\, sutra\, and metta practices. 🙏 \n>>>> ZOOM ID/Link <<<<\nhttps://us02web.zoom.us/j/5093952030 \nAll are welcome to be a part of our morning service. Experience not necessary. Those of any faith or lack thereof are welcome. All that is required is an open mind to learn how to promote wellness\, happiness\, love\, and peace to oneself and all sentient beings. Typically a service will include the following: \n* Check in. (How you’re doing.)\n* Silent meditation\, seated on cushion\, chair\, or one of the pews.\n* Dharma talk from either Thay Kozen or one of five other teachers. (Buddhist teaching on how to alleviate suffering and promote happiness and peace.)\n* Metta practice. (Loving kindness.)\n* Sutra recitation and discussion. (Sutras are the written Dharma teachings.)\n* Much love and laughter.\n🙏
URL:https://www.tlabbey.com/event/morning-meditation-3/
LOCATION:Mt. Adams Buddhist Temple\, 46 Stoller Rd\, Trout Lake\, WA\, 98650\, United States
CATEGORIES:Mt. Adams Buddhist Temple Meditations, Events, & Services
END:VEVENT
BEGIN:VEVENT
DTSTART;TZID=America/Los_Angeles:20230714T063000
DTEND;TZID=America/Los_Angeles:20230714T073000
DTSTAMP:20260420T191600
CREATED:20230713T132720Z
LAST-MODIFIED:20230714T135542Z
UID:10002633-1689316200-1689319800@www.tlabbey.com
SUMMARY:Morning Meditation
DESCRIPTION:Four different teachers will rotate talks with a Dharma talk\, meditation\, sutra\, and metta practices. 🙏 \n>>>> ZOOM ID/Link <<<<\nhttps://us02web.zoom.us/j/5093952030 \nAll are welcome to be a part of our morning service. Experience not necessary. Those of any faith or lack thereof are welcome. All that is required is an open mind to learn how to promote wellness\, happiness\, love\, and peace to oneself and all sentient beings. Typically a service will include the following: \n* Check in. (How you’re doing.)\n* Silent meditation\, seated on cushion\, chair\, or one of the pews.\n* Dharma talk from either Thay Kozen or one of five other teachers. (Buddhist teaching on how to alleviate suffering and promote happiness and peace.)\n* Metta practice. (Loving kindness.)\n* Sutra recitation and discussion. (Sutras are the written Dharma teachings.)\n* Much love and laughter.\n🙏
URL:https://www.tlabbey.com/event/morning-meditation-2/
LOCATION:Mt. Adams Buddhist Temple\, 46 Stoller Rd\, Trout Lake\, WA\, 98650\, United States
CATEGORIES:Mt. Adams Buddhist Temple Meditations, Events, & Services
END:VEVENT
BEGIN:VEVENT
DTSTART;TZID=America/Los_Angeles:20230713T063000
DTEND;TZID=America/Los_Angeles:20230713T073000
DTSTAMP:20260420T191600
CREATED:20230713T132713Z
LAST-MODIFIED:20230713T134115Z
UID:10002609-1689229800-1689233400@www.tlabbey.com
SUMMARY:Morning Meditation
DESCRIPTION:Four different teachers will rotate talks with a Dharma talk\, meditation\, sutra\, and metta practices. 🙏 \n>>>> ZOOM ID/Link <<<<\nhttps://us02web.zoom.us/j/5093952030 \nAll are welcome to be a part of our morning service. Experience not necessary. Those of any faith or lack thereof are welcome. All that is required is an open mind to learn how to promote wellness\, happiness\, love\, and peace to oneself and all sentient beings. Typically a service will include the following: \n* Check in. (How you’re doing.)\n* Silent meditation\, seated on cushion\, chair\, or one of the pews.\n* Dharma talk from either Thay Kozen or one of five other teachers. (Buddhist teaching on how to alleviate suffering and promote happiness and peace.)\n* Metta practice. (Loving kindness.)\n* Sutra recitation and discussion. (Sutras are the written Dharma teachings.)\n* Much love and laughter.\n🙏
URL:https://www.tlabbey.com/event/morning-meditation/
LOCATION:Mt. Adams Buddhist Temple\, 46 Stoller Rd\, Trout Lake\, WA\, 98650\, United States
CATEGORIES:Mt. Adams Buddhist Temple Meditations, Events, & Services
END:VEVENT
BEGIN:VEVENT
DTSTART;TZID=America/Los_Angeles:20221021T063000
DTEND;TZID=America/Los_Angeles:20221021T073000
DTSTAMP:20260420T191600
CREATED:20240123T184937Z
LAST-MODIFIED:20240127T184934Z
UID:10005760-1666333800-1666337400@www.tlabbey.com
SUMMARY:Morning Meditation
DESCRIPTION:Four different teachers will rotate talks with a Dharma talk\, meditation\, sutra\, and metta practices. 🙏 \n>>>> ZOOM ID/Link <<<<\nhttps://us02web.zoom.us/j/5093952030 \nAll are welcome to be a part of our morning service. Experience not necessary. Those of any faith or lack thereof are welcome. All that is required is an open mind to learn how to promote wellness\, happiness\, love\, and peace to oneself and all sentient beings. Typically a service will include the following: \n* Check in. (How you’re doing.)\n* Silent meditation\, seated on cushion\, chair\, or one of the pews.\n* Dharma talk from either Thay Kozen or one of five other teachers. (Buddhist teaching on how to alleviate suffering and promote happiness and peace.)\n* Metta practice. (Loving kindness.)\n* Sutra recitation and discussion. (Sutras are the written Dharma teachings.)\n* Much love and laughter.\n🙏
URL:https://www.tlabbey.com/event/morning-meditation-161/
LOCATION:Mt. Adams Buddhist Temple\, 46 Stoller Rd\, Trout Lake\, WA\, 98650\, United States
CATEGORIES:Mt. Adams Buddhist Temple Meditations, Events, & Services
END:VEVENT
END:VCALENDAR