BEGIN:VCALENDAR
VERSION:2.0
PRODID:-//Trout Lake Abbey - ECPv6.15.20//NONSGML v1.0//EN
CALSCALE:GREGORIAN
METHOD:PUBLISH
X-ORIGINAL-URL:https://www.tlabbey.com
X-WR-CALDESC:Events for Trout Lake Abbey
REFRESH-INTERVAL;VALUE=DURATION:PT1H
X-Robots-Tag:noindex
X-PUBLISHED-TTL:PT1H
BEGIN:VTIMEZONE
TZID:UTC
BEGIN:STANDARD
TZOFFSETFROM:+0000
TZOFFSETTO:+0000
TZNAME:UTC
DTSTART:20220101T000000
END:STANDARD
END:VTIMEZONE
BEGIN:VEVENT
DTSTART;TZID=UTC:20231108T183000
DTEND;TZID=UTC:20231108T200000
DTSTAMP:20260422T122533
CREATED:20231009T200320Z
LAST-MODIFIED:20231108T153447Z
UID:10002859-1699468200-1699473600@www.tlabbey.com
SUMMARY:Thich Nhat Hanh Study Group Meeting
DESCRIPTION:Thich Nhat Hanh Study Group Meetings are 2nd and 4th Wednesday\, 6:30-8:00 pm. Contact Bonnie for group ZOOM number email\, bon2626wit@att.net
URL:https://www.tlabbey.com/event/thich-nhat-hanh-study-group-meeting-8/
LOCATION:Mt. Adams Buddhist Temple\, 46 Stoller Rd\, Trout Lake\, WA\, 98650\, United States
CATEGORIES:Mt. Adams Buddhist Temple Meditations, Events, & Services
END:VEVENT
BEGIN:VEVENT
DTSTART;TZID=UTC:20231114T120000
DTEND;TZID=UTC:20231114T130000
DTSTAMP:20260422T122533
CREATED:20231021T073546Z
LAST-MODIFIED:20231114T160438Z
UID:10005584-1699963200-1699966800@www.tlabbey.com
SUMMARY:Meditation Service in Hood River
DESCRIPTION:Join us in a sharing community of open-hearted individuals for a weekly sitting meditation practice. We sit for 20 to 30 minutes and practice metta: wishing love\, peace\, wellness\, and happiness to ourselves and others. Hosted by the Mt. Adams Buddhist Center of Trout Lake\, WA supported by Rev. Kozen Sampson\, a Buddhist monk in the Vietnamese Thien tradition. \nWhat to bring\n\nNothing\, donations (dana) accepted.\n\nNot available on Zoom.  
URL:https://www.tlabbey.com/event/meditation-service-in-hood-river-18/
LOCATION:Trinity Natural Medicine\, 1412 13th St Suite 200\, Hood River\, OR\, 97031
CATEGORIES:Mt. Adams Buddhist Temple Meditations, Events, & Services
END:VEVENT
BEGIN:VEVENT
DTSTART;TZID=UTC:20231121T120000
DTEND;TZID=UTC:20231121T130000
DTSTAMP:20260422T122533
CREATED:20231022T073527Z
LAST-MODIFIED:20231121T160508Z
UID:10005595-1700568000-1700571600@www.tlabbey.com
SUMMARY:Meditation Service in Hood River
DESCRIPTION:Join us in a sharing community of open-hearted individuals for a weekly sitting meditation practice. We sit for 20 to 30 minutes and practice metta: wishing love\, peace\, wellness\, and happiness to ourselves and others. Hosted by the Mt. Adams Buddhist Center of Trout Lake\, WA supported by Rev. Kozen Sampson\, a Buddhist monk in the Vietnamese Thien tradition. \nWhat to bring\n\nNothing\, donations (dana) accepted.\n\nNot available on Zoom.  
URL:https://www.tlabbey.com/event/meditation-service-in-hood-river-19/
LOCATION:Trinity Natural Medicine\, 1412 13th St Suite 200\, Hood River\, OR\, 97031
CATEGORIES:Mt. Adams Buddhist Temple Meditations, Events, & Services
END:VEVENT
BEGIN:VEVENT
DTSTART;TZID=UTC:20231128T120000
DTEND;TZID=UTC:20231128T130000
DTSTAMP:20260422T122533
CREATED:20231029T092727Z
LAST-MODIFIED:20231128T161946Z
UID:10005608-1701172800-1701176400@www.tlabbey.com
SUMMARY:Meditation Service in Hood River
DESCRIPTION:Join us in a sharing community of open-hearted individuals for a weekly sitting meditation practice. We sit for 20 to 30 minutes and practice metta: wishing love\, peace\, wellness\, and happiness to ourselves and others. Hosted by the Mt. Adams Buddhist Center of Trout Lake\, WA supported by Rev. Kozen Sampson\, a Buddhist monk in the Vietnamese Thien tradition. \nWhat to bring\n\nNothing\, donations (dana) accepted.\n\nNot available on Zoom.  
URL:https://www.tlabbey.com/event/meditation-service-in-hood-river-20/
LOCATION:Trinity Natural Medicine\, 1412 13th St Suite 200\, Hood River\, OR\, 97031
CATEGORIES:Mt. Adams Buddhist Temple Meditations, Events, & Services
END:VEVENT
END:VCALENDAR