BEGIN:VCALENDAR
VERSION:2.0
PRODID:-//Trout Lake Abbey - ECPv6.15.20//NONSGML v1.0//EN
CALSCALE:GREGORIAN
METHOD:PUBLISH
X-WR-CALNAME:Trout Lake Abbey
X-ORIGINAL-URL:https://www.tlabbey.com
X-WR-CALDESC:Events for Trout Lake Abbey
REFRESH-INTERVAL;VALUE=DURATION:PT1H
X-Robots-Tag:noindex
X-PUBLISHED-TTL:PT1H
BEGIN:VTIMEZONE
TZID:UTC
BEGIN:STANDARD
TZOFFSETFROM:+0000
TZOFFSETTO:+0000
TZNAME:UTC
DTSTART:20240101T000000
END:STANDARD
END:VTIMEZONE
BEGIN:VEVENT
DTSTART;TZID=UTC:20250514T183000
DTEND;TZID=UTC:20250514T200000
DTSTAMP:20260423T161436
CREATED:20250414T125033Z
LAST-MODIFIED:20250514T160417Z
UID:10008667-1747247400-1747252800@www.tlabbey.com
SUMMARY:Thich Nhat Hanh Study Group Meeting
DESCRIPTION:Thich Nhat Hanh Study Group Meetings are 2nd and 4th Wednesday\, 6:30-8:00 pm. Contact Bonnie for group ZOOM number email\, bon2626wit@att.net
URL:https://www.tlabbey.com/event/thich-nhat-hanh-study-group-meeting-37/
LOCATION:Mt. Adams Buddhist Temple\, 46 Stoller Rd\, Trout Lake\, WA\, 98650\, United States
CATEGORIES:Buddhist Classes
END:VEVENT
BEGIN:VEVENT
DTSTART;TZID=UTC:20250528T183000
DTEND;TZID=UTC:20250528T200000
DTSTAMP:20260423T161436
CREATED:20250428T150719Z
LAST-MODIFIED:20250521T161931Z
UID:10008688-1748457000-1748462400@www.tlabbey.com
SUMMARY:Thich Nhat Hanh Study Group Meeting
DESCRIPTION:Thich Nhat Hanh Study Group Meetings are 2nd and 4th Wednesday\, 6:30-8:00 pm. Contact Bonnie for group ZOOM number email\, bon2626wit@att.net
URL:https://www.tlabbey.com/event/thich-nhat-hanh-study-group-meeting-38/
LOCATION:Mt. Adams Buddhist Temple\, 46 Stoller Rd\, Trout Lake\, WA\, 98650\, United States
CATEGORIES:Buddhist Classes
END:VEVENT
END:VCALENDAR